BEGIN:VCALENDAR
VERSION:2.0
PRODID:-//Kris Kile - ECPv6.15.20//NONSGML v1.0//EN
CALSCALE:GREGORIAN
METHOD:PUBLISH
X-ORIGINAL-URL:https://kriskile.com
X-WR-CALDESC:Events for Kris Kile
REFRESH-INTERVAL;VALUE=DURATION:PT1H
X-Robots-Tag:noindex
X-PUBLISHED-TTL:PT1H
BEGIN:VTIMEZONE
TZID:Asia/Karachi
BEGIN:STANDARD
TZOFFSETFROM:+0500
TZOFFSETTO:+0500
TZNAME:PKT
DTSTART:20230101T000000
END:STANDARD
END:VTIMEZONE
BEGIN:VEVENT
DTSTART;VALUE=DATE:20240426
DTEND;VALUE=DATE:20240429
DTSTAMP:20260423T194023
CREATED:20230915T132636Z
LAST-MODIFIED:20240415T173111Z
UID:12930-1714089600-1714348799@kriskile.com
SUMMARY:The Unlearn You Training
DESCRIPTION:The Unlearn You Training will be happening in Austin Texas at the Holiday Inn Austin Airport\, 6711 E Ben White Blvd\, Austin\, TX 78744 on April 26-28\, 2024.\nBuy Now – Unlearn You Training
URL:https://kriskile.com/event/the-unlearn-you-training/
LOCATION:Holiday Inn – Austin\, 6711 E Ben White Blvd\, Austin\, TX\, 78741
CATEGORIES:The Flourishing Life
ATTACH;FMTTYPE=image/jpeg:https://kriskile.com/wp-content/uploads/2023/09/Flourishing-Life-Header.jpg
END:VEVENT
BEGIN:VEVENT
DTSTART;VALUE=DATE:20240119
DTEND;VALUE=DATE:20240122
DTSTAMP:20260423T194023
CREATED:20230915T131918Z
LAST-MODIFIED:20231002T121909Z
UID:12924-1705622400-1705881599@kriskile.com
SUMMARY:Breakthrough Training
DESCRIPTION:January 19-21\, 2024\nExperience authentic community at a brand-new level. \nHoliday Inn Airport\n6711 E Ben White Blvd\nAustin\, TX 78741 \nBUY NOW – The Breakthrough Training
URL:https://kriskile.com/event/breakthrough-training/
LOCATION:Holiday Inn – Austin\, 6711 E Ben White Blvd\, Austin\, TX\, 78741
CATEGORIES:The Flourishing Life
ATTACH;FMTTYPE=image/jpeg:https://kriskile.com/wp-content/uploads/2023/09/Flourishing-Life-Header.jpg
END:VEVENT
END:VCALENDAR